BEGIN:VCALENDAR
VERSION:2.0
PRODID:-//Horecaplein Rhederlaag - ECPv5.9.1//NONSGML v1.0//EN
CALSCALE:GREGORIAN
METHOD:PUBLISH
X-WR-CALNAME:Horecaplein Rhederlaag
X-ORIGINAL-URL:https://www.horecapleinrhederlaag.nl
X-WR-CALDESC:Evenementen voor Horecaplein Rhederlaag
BEGIN:VTIMEZONE
TZID:UTC
BEGIN:STANDARD
TZOFFSETFROM:+0000
TZOFFSETTO:+0000
TZNAME:UTC
DTSTART:20160101T000000
END:STANDARD
END:VTIMEZONE
BEGIN:VEVENT
DTSTART;TZID=UTC:20161217T210000
DTEND;TZID=UTC:20161217T210000
DTSTAMP:20260423T230303
CREATED:20161030T161551Z
LAST-MODIFIED:20161107T130529Z
UID:3365-1482008400-1482008400@www.horecapleinrhederlaag.nl
SUMMARY:Back to the '80 & '90
DESCRIPTION:
URL:https://www.horecapleinrhederlaag.nl/event/test-event/
LOCATION:Evenementenzaal\, Marsweg 2\, Lathum\, Gelderland\, 6988 BM\, Nederland
ORGANIZER;CN="Horecaplein%20Rhederlaag":MAILTO:info@plezierbootje.nl
END:VEVENT
END:VCALENDAR