BEGIN:VCALENDAR
VERSION:2.0
PRODID:-//Horecaplein Rhederlaag - ECPv5.9.1//NONSGML v1.0//EN
CALSCALE:GREGORIAN
METHOD:PUBLISH
X-WR-CALNAME:Horecaplein Rhederlaag
X-ORIGINAL-URL:https://www.horecapleinrhederlaag.nl
X-WR-CALDESC:Evenementen voor Horecaplein Rhederlaag
BEGIN:VTIMEZONE
TZID:UTC
BEGIN:STANDARD
TZOFFSETFROM:+0000
TZOFFSETTO:+0000
TZNAME:UTC
DTSTART:20170101T000000
END:STANDARD
END:VTIMEZONE
BEGIN:VEVENT
DTSTART;TZID=UTC:20170422T200000
DTEND;TZID=UTC:20170423T010000
DTSTAMP:20260423T231109
CREATED:20170405T092626Z
LAST-MODIFIED:20170408T112643Z
UID:4530-1492891200-1492909200@www.horecapleinrhederlaag.nl
SUMMARY:Openingsfeest seizoen 2017 Recreatiepark & Jachthaven Rhederlaagse Meren!
DESCRIPTION:Openingsfeest seizoen 2017 inclusief “gratis” 2 consumpties bij binnenkomst. \nDJ + artiest is verzorgd door Horecaplein Rhederlaag. \nNaam artiest: Franky Falcon \nZaterdag 22 april willen we graag het seizoen 2017 met “jullie” openen! \nWe doen dit in de “grote zaal” op het Horecaplein Rhederlaag. \nDit alles doen we onder het genot van een drankje. \nAanvangstijd:20.00 uur \nEindtijd: 1.00 uur \nALTIJD GEZELLIG BIJ HORECAPLEIN RHEDERLAAG. \nTot 22 april. \nTeam Rhederlaagse Meren.
URL:https://www.horecapleinrhederlaag.nl/event/openingsfeest-seizoen-2017-recreatiepark-jachthaven-rhederlaagse-meren/
LOCATION:Evenementenzaal\, Marsweg 2\, Lathum\, Gelderland\, 6988 BM\, Nederland
ORGANIZER;CN="Horecaplein%20Rhederlaag":MAILTO:info@plezierbootje.nl
END:VEVENT
END:VCALENDAR