BEGIN:VCALENDAR
VERSION:2.0
PRODID:-//Horecaplein Rhederlaag - ECPv5.9.1//NONSGML v1.0//EN
CALSCALE:GREGORIAN
METHOD:PUBLISH
X-WR-CALNAME:Horecaplein Rhederlaag
X-ORIGINAL-URL:https://www.horecapleinrhederlaag.nl
X-WR-CALDESC:Evenementen voor Horecaplein Rhederlaag
BEGIN:VTIMEZONE
TZID:UTC
BEGIN:STANDARD
TZOFFSETFROM:+0000
TZOFFSETTO:+0000
TZNAME:UTC
DTSTART:20160101T000000
END:STANDARD
END:VTIMEZONE
BEGIN:VEVENT
DTSTART;VALUE=DATE:20161226
DTEND;VALUE=DATE:20161227
DTSTAMP:20260423T230903
CREATED:20161030T162020Z
LAST-MODIFIED:20161107T130455Z
UID:3371-1482710400-1482710400@www.horecapleinrhederlaag.nl
SUMMARY:Kerst buffet 2e kerstdag
DESCRIPTION:
URL:https://www.horecapleinrhederlaag.nl/event/kerst-buffet-2e-kerstdag/
LOCATION:Evenementenzaal\, Marsweg 2\, Lathum\, Gelderland\, 6988 BM\, Nederland
ORGANIZER;CN="Horecaplein%20Rhederlaag":MAILTO:info@plezierbootje.nl
END:VEVENT
END:VCALENDAR