BEGIN:VCALENDAR
VERSION:2.0
PRODID:-//Horecaplein Rhederlaag - ECPv5.9.1//NONSGML v1.0//EN
CALSCALE:GREGORIAN
METHOD:PUBLISH
X-WR-CALNAME:Horecaplein Rhederlaag
X-ORIGINAL-URL:https://www.horecapleinrhederlaag.nl
X-WR-CALDESC:Evenementen voor Horecaplein Rhederlaag
BEGIN:VTIMEZONE
TZID:UTC
BEGIN:STANDARD
TZOFFSETFROM:+0000
TZOFFSETTO:+0000
TZNAME:UTC
DTSTART:20170101T000000
END:STANDARD
END:VTIMEZONE
BEGIN:VEVENT
DTSTART;TZID=UTC:20170625T140000
DTEND;TZID=UTC:20170625T200000
DTSTAMP:20260423T230433
CREATED:20170517T124434Z
LAST-MODIFIED:20170517T124859Z
UID:4789-1498399200-1498420800@www.horecapleinrhederlaag.nl
SUMMARY:Johnny Romein Pleinfestijn - Zondag 25 juni 2017!
DESCRIPTION:Johnny Romein Pleinfestijn Zondag 25 juni 2017! \nm.m.v. \n– Kobus Engels\n– Frank van Etten\n– Danny Terp\n– Dario\n– Bjöma Swertz\n– DJ Maurice Romein \nLocatie: Recreatiepark & Jachthaven Rhederlaagse Meren\nOp het Horecaplein Rhederlaag \nGRATIS ENTREE! \nAanvang: 14.00 uur. \nAdres:\nMarsweg 2\nLathum\n6988 BM \nwww.rhederlaagsemeren.nl\nwww.horecapleinrhederlaag.nl \n 
URL:https://www.horecapleinrhederlaag.nl/event/johnny-romein-pleinfestijn-zondag-25-juni-2017/
LOCATION:Recreatiepark Rhederlaagse Meren\, Marsweg 2\, Lathum\, Gelderland\, 6988 BM\, Nederland
ORGANIZER;CN="Horecaplein%20Rhederlaag":MAILTO:info@plezierbootje.nl
END:VEVENT
END:VCALENDAR